BEGIN:VCALENDAR
VERSION:2.0
METHOD:PUBLISH
PRODID:-//Agenda.ad//NONSGML v1.0//EN
BEGIN:VEVENT
CLASS:PUBLIC
UID:20e4ebdc4099b93c60b8358ec79a4a47@agenda.ad
DTSTAMP:20260422T043952Z
DTSTART:20190205T230000Z
DTEND:20190205T230000Z
SUMMARY:<span lang="FR">'Quelques &eacute;nigmes de l'histoire d'Andorre'&nbsp;</span>
DESCRIPTION:Un breu recorregut pels punts calents de la història 
 d’Andorra.\n\nMés informació\nhttps://www.agenda.ad/
 activitat/andorra-la-vella/conferencies/-quelques-enigmes-de
 -l-histoire-d-andorre- \nAMOPA Tel.: 352 505\n\nOrgani
 tza\nAMOPA
LOCATION:Sala d'actes de MoraBanc
SEQUENCE:0
TRANSP:OPAQUE
X-ALT-DESC;FMTTYPE=text/html:<!DOCTYPE HTML PUBLIC "-//W3C//DTD HTML 3.2//EN"><HTML><HEAD
 ><TITLE></TITLE></HEAD><BODY><FONT FACE="Arial" SIZE=2>Un br
 eu recorregut pels punts calents de la hist&ograve;ria d&rsq
 uo;Andorra.<br/><br/><b>Més informació</b><br/><a href="ht
 tps://www.agenda.ad/activitat/andorra-la-vella/conferencies/
 -quelques-enigmes-de-l-histoire-d-andorre- ">https://www.ag
 enda.ad/activitat/andorra-la-vella/conferencies/-quelques-en
 igmes-de-l-histoire-d-andorre- </a><br/>AMOPA&nbsp;Tel.: 35
 2 505<br/><br/><b>Organitza</b><br/>AMOPA</FONT></BODY></HTM
 L>
END:VEVENT
END:VCALENDAR